Workbook

Sheet INSTRUCTIVO

Sheet CALCULO
A1: ESTUDIO NOTARIAL MACHADO
A2: Jorge Julio Machado Giachero
A3: Escribano Público
A4: jm@estudionotarialmachado.com
A5: CALCULO CUOTAS DE INTERES MAS CUOTA FINAL DE CAPITAL E INTERES
A6: VERSION 2026
A7: www.estudionotarialmachado.com
B8: DESEMBOLSO (CAPITAL) | C8: 640000
B9: TASA EFECTIVA ANUAL (TEA) | C9: 0.124
B10: PERIODOS ( CANTIDAD DE CUOTAS) | C10: 8
B11: SELECIONE EL PERIODO DE LAS CUOTAS | F11: MENSUALES | G11: =ROUND(Hoja2!C4,2) -> 6264.8
B12: SI LAS CUOTAS SON: | C12: TRIMESTRALES | F12: BIMESTRALES | G12: =ROUND(Hoja2!C5,2) -> 12590.92
A13: =SUM(C10,-1) -> 7 | B13: CUOTAS DE INTERES DE | C13: =IF(C12=F11,G11,IF(C12=F12,G12,IF(C12=F13,G13,IF(C12=F14,G14,IF(C12=F15,G15,IF(C12=F16,G16)))))) -> 18978.96 | F13: TRIMESTRALES | G13: =ROUND(Hoja2!C6,2) -> 18978.96
A14: 1 | B14: ULTIMA CUOTA DE INTERES Y CAPITAL | C14: =SUM(C8,C13) -> 658978.96 | F14: CUATRIMESTRALES | G14: =ROUND(Hoja2!C9,2) -> 25429.54
A15: TOTAL DE INTERESES EN EL PROCESO DE AMORTIZACION | C15: =PRODUCT(C13,C10) -> 151831.68 | F15: SEMESTRALES | G15: =ROUND(Hoja2!C7,2) -> 38520.74
A16: TOTAL FINANCIADO | C16: =SUM(C8,C15) -> 791831.68 | F16: ANUALES | G16: =ROUND(Hoja2!C8,2) -> 79360

Sheet CALCULO (AJUSTE DIAS)
A1: ESTUDIO NOTARIAL MACHADO
A2: Jorge Julio Machado Giachero
A3: Escribano Público
A4: jm@estudionotarialmachado.com
A5: CALCULO CUOTAS DE INTERES MAS CUOTA FINAL DE CAPITAL E INTERES
B6: CON POSIBILIDAD DE AJUSTE DEL PRIMER PERIODO
A7: VERSION 2026
A8: www.estudionotarialmachado.com
B9: DESEMBOLSO (CAPITAL) | C9: 640000
B10: TASA EFECTIVA ANUAL (TEA) | C10: 0.124
B11: PERIODOS ( CANTIDAD DE CUOTAS) | C11: 8
A12: CUANDO LA PRIMERA CUOTA VENCE ANTES DEL PERIODO PONER DIAS A RAZON DE 30 POR CADA MES | C12: 20 | E12: SI SON PERIODOS COMPLETOS PONER "0"
B13: SELECIONE EL PERIODO DE LAS CUOTAS | F13: MENSUALES | G13: =ROUND(Hoja2!C4,2) -> 6264.8
B14: SI LAS CUOTAS SON: | C14: TRIMESTRALES | F14: BIMESTRALES | G14: =ROUND(Hoja2!C5,2) -> 12590.92
A15: =PRODUCT(C12,1) -> 20 | B15: DIAS QUE COMPONEN EL PRIMER PERIODO SIN COMPLETARLO | C15: =ROUND(H25,2) -> 4156.9
A16: =IF(C15>0,A22,A21) -> 6 | B16: CUOTAS DE INTERES DE | C16: =IF(C14=F13,G13,IF(C14=F14,G14,IF(C14=F16,G16,IF(C14=F17,G17,IF(C14=F18,G18,IF(C14=F19,G19)))))) -> 18978.96 | F16: TRIMESTRALES | G16: =ROUND(Hoja2!C6,2) -> 18978.96
A17: 1 | B17: ULTIMA CUOTA DE INTERES Y CAPITAL | C17: =SUM(C9,C16) -> 658978.96 | F17: CUATRIMESTRALES | G17: =ROUND(Hoja2!C9,2) -> 25429.54
A18: TOTAL DE INTERESES EN EL PROCESO DE AMORTIZACION | C18: =SUM(C21,C15) -> 137009.62 | F18: SEMESTRALES | G18: =ROUND(Hoja2!C7,2) -> 38520.74
A19: TOTAL FINANCIADO | C19: =SUM(C15,C18,C9) -> 781166.52 | F19: ANUALES | G19: =ROUND(Hoja2!C8,2) -> 79360
A21: =SUM(C11,-1) -> 7 | B21: TOTAL INT PERIODOS ENTEROS | C21: =PRODUCT(C16,B23) -> 132852.72 | F21: POR CADA DIA | G21: =SUM(Hoja2!C11,0) -> 207.84486
A22: =SUM(C11,-2) -> 6 | F22: TOTAL DE LOS DIAS | G22: =SUM(C12) -> 20
B23: =SUM(A16,1) -> 7 | F23: MONTO TOTAL CUOTA PARCIAL | H23: =IF(G22>0,G22,0) -> 20
H24: =PRODUCT(H23,G21) -> 4156.8971
H25: =IF(H24>0,H24,0) -> 4156.8971

Sheet Hoja2
A1: desembolso | B1: =SUM(CALCULO!C8,0) -> 640000
A2: TEA | B2: =SUM(CALCULO!C9,0) -> 0.124 | C2: =SUM(B2,0) -> 0.124 | E2: =SUM(C2,1) -> 1.124
A3: CUOTAS Nº | B3: =SUM(CALCULO!C10,0) -> 8
A4: IM | B4: =SUM(E4,-1) -> 0.0097887454 | C4: =PRODUCT(B1,B4) -> 6264.797 | E4: =POWER(E2,1/12) -> 1.0097887
A5: IB | B5: =SUM(E5,-1) -> 0.01967331 | C5: =PRODUCT(B1,B5) -> 12590.919 | E5: =POWER(E2,1/6) -> 1.0196733
A6: IT | B6: =SUM(E6,-1) -> 0.029654633 | C6: =PRODUCT(B1,B6) -> 18978.965 | E6: =POWER(E2,1/4) -> 1.0296546
A7: IS | B7: =SUM(E7,-1) -> 0.060188662 | C7: =PRODUCT(B1,B7) -> 38520.744 | E7: =POWER(E2,1/2) -> 1.0601887
A8: IA | B8: =SUM(E8,-1) -> 0.124 | C8: =PRODUCT(B1,B8) -> 79360 | E8: =POWER(E2,1/1) -> 1.124
A9: I CUATRIM | B9: =SUM(E9,-1) -> 0.03973366 | C9: =PRODUCT(B1,B9) -> 25429.542 | E9: =POWER(E4,4) -> 1.0397337
A11: DIARIO | B11: =SUM(E11,-1) -> 0.00032475759 | C11: =PRODUCT(B1,B11) -> 207.84486 | E11: =POWER(E2,1/360) -> 1.0003248
